Package: GraphAT Version: 1.83.0 Command: /Library/Frameworks/R.framework/Resources/bin/R CMD INSTALL GraphAT StartedAt: 2025-11-19 15:20:40 -0500 (Wed, 19 Nov 2025) EndedAt: 2025-11-19 15:20:52 -0500 (Wed, 19 Nov 2025) EllapsedTime: 11.5 seconds RetCode: 0 Status: OK