Package: GraphAlignment Version: 1.75.0 Command: rm -rf GraphAlignment.buildbin-libdir && mkdir GraphAlignment.buildbin-libdir && /Users/biocbuild/BBS/utils/build-universal.sh GraphAlignment_1.75.0.tar.gz /Library/Frameworks/R.framework/Resources/bin/R GraphAlignment.buildbin-libdir StartedAt: 2025-11-19 23:36:44 -0500 (Wed, 19 Nov 2025) EndedAt: 2025-11-19 23:36:48 -0500 (Wed, 19 Nov 2025) EllapsedTime: 4.1 seconds RetCode: 0 Status: OK PackageFile: GraphAlignment_1.75.0.tgz PackageFileSize: 576.2 KiB