Package: GraphAlignment Version: 1.75.0 Command: /Library/Frameworks/R.framework/Resources/bin/R CMD build --keep-empty-dirs --no-resave-data GraphAlignment StartedAt: 2025-11-19 16:34:50 -0500 (Wed, 19 Nov 2025) EndedAt: 2025-11-19 16:34:55 -0500 (Wed, 19 Nov 2025) EllapsedTime: 5.1 seconds RetCode: 0 Status: OK PackageFile: GraphAlignment_1.75.0.tar.gz PackageFileSize: 591.8 KiB