Package: GraphAlignment Version: 1.75.0 Command: rm -rf GraphAlignment.buildbin-libdir && mkdir GraphAlignment.buildbin-libdir && /Users/biocbuild/BBS/utils/build-universal.sh GraphAlignment_1.75.0.tar.gz /Library/Frameworks/R.framework/Resources/bin/R GraphAlignment.buildbin-libdir StartedAt: 2025-11-20 01:36:26 -0500 (Thu, 20 Nov 2025) EndedAt: 2025-11-20 01:36:36 -0500 (Thu, 20 Nov 2025) EllapsedTime: 10.4 seconds RetCode: 0 Status: OK PackageFile: GraphAlignment_1.75.0.tgz PackageFileSize: 573.9 KiB