Package: GraphAlignment Version: 1.75.0 Command: /Library/Frameworks/R.framework/Resources/bin/R CMD INSTALL GraphAlignment StartedAt: 2025-11-19 15:15:48 -0500 (Wed, 19 Nov 2025) EndedAt: 2025-11-19 15:16:22 -0500 (Wed, 19 Nov 2025) EllapsedTime: 34.5 seconds RetCode: 0 Status: OK