Package: GraphAlignment Version: 1.75.0 Command: /home/biocbuild/bbs-3.23-bioc/R/bin/R CMD INSTALL GraphAlignment StartedAt: 2025-11-20 15:06:52 -0500 (Thu, 20 Nov 2025) EndedAt: 2025-11-20 15:07:12 -0500 (Thu, 20 Nov 2025) EllapsedTime: 19.9 seconds RetCode: 0 Status: OK