Package: HDF5Array Version: 1.39.0 Command: rm -rf HDF5Array.buildbin-libdir && mkdir HDF5Array.buildbin-libdir && /Users/biocbuild/BBS/utils/build-universal.sh HDF5Array_1.39.0.tar.gz /Library/Frameworks/R.framework/Resources/bin/R HDF5Array.buildbin-libdir StartedAt: 2025-11-20 01:37:03 -0500 (Thu, 20 Nov 2025) EndedAt: 2025-11-20 01:37:39 -0500 (Thu, 20 Nov 2025) EllapsedTime: 35.8 seconds RetCode: 0 Status: OK PackageFile: HDF5Array_1.39.0.tgz PackageFileSize: 8.585 MiB