Package: HDF5Array Version: 1.39.0 Command: /Library/Frameworks/R.framework/Resources/bin/R CMD build --keep-empty-dirs --no-resave-data HDF5Array StartedAt: 2025-11-19 17:18:26 -0500 (Wed, 19 Nov 2025) EndedAt: 2025-11-19 17:33:19 -0500 (Wed, 19 Nov 2025) EllapsedTime: 892.8 seconds RetCode: 0 Status: OK PackageFile: HDF5Array_1.39.0.tar.gz PackageFileSize: 7.968 MiB