Package: HDF5Array Version: 1.39.0 Command: /Library/Frameworks/R.framework/Resources/bin/R CMD INSTALL HDF5Array StartedAt: 2025-11-18 15:35:44 -0500 (Tue, 18 Nov 2025) EndedAt: 2025-11-18 15:36:15 -0500 (Tue, 18 Nov 2025) EllapsedTime: 30.8 seconds RetCode: 0 Status: OK