Package: HDF5Array Version: 1.39.0 Command: /home/biocbuild/bbs-3.23-bioc/R/bin/R CMD build --keep-empty-dirs --no-resave-data HDF5Array StartedAt: 2025-11-19 18:05:18 -0500 (Wed, 19 Nov 2025) EndedAt: 2025-11-19 18:18:20 -0500 (Wed, 19 Nov 2025) EllapsedTime: 781.9 seconds RetCode: 0 Status: OK PackageFile: HDF5Array_1.39.0.tar.gz PackageFileSize: 7.968 MiB