Package: HelloRanges Version: 1.37.0 Command: rm -rf HelloRanges.buildbin-libdir && mkdir HelloRanges.buildbin-libdir && /Users/biocbuild/BBS/utils/build-universal.sh HelloRanges_1.37.0.tar.gz /Library/Frameworks/R.framework/Resources/bin/R HelloRanges.buildbin-libdir StartedAt: 2025-11-24 23:44:08 -0500 (Mon, 24 Nov 2025) EndedAt: 2025-11-24 23:44:28 -0500 (Mon, 24 Nov 2025) EllapsedTime: 20.5 seconds RetCode: 0 Status: OK PackageFile: HelloRanges_1.37.0.tgz PackageFileSize: 968.2 KiB