Package: HelloRanges Version: 1.37.0 Command: /Library/Frameworks/R.framework/Resources/bin/R CMD build --keep-empty-dirs --no-resave-data HelloRanges StartedAt: 2025-11-25 16:36:56 -0500 (Tue, 25 Nov 2025) EndedAt: 2025-11-25 16:38:42 -0500 (Tue, 25 Nov 2025) EllapsedTime: 105.1 seconds RetCode: 0 Status: OK PackageFile: HelloRanges_1.37.0.tar.gz PackageFileSize: 951.3 KiB