Package: IntEREst Version: 1.35.0 Command: /Library/Frameworks/R.framework/Resources/bin/R CMD build --keep-empty-dirs --no-resave-data IntEREst StartedAt: 2025-11-18 16:54:49 -0500 (Tue, 18 Nov 2025) EndedAt: 2025-11-18 16:55:16 -0500 (Tue, 18 Nov 2025) EllapsedTime: 27.3 seconds RetCode: 1 Status: ERROR PackageFile: None PackageFileSize: NA