Package: IntEREst Version: 1.35.0 Command: /Library/Frameworks/R.framework/Resources/bin/R CMD INSTALL IntEREst StartedAt: 2025-11-18 15:39:07 -0500 (Tue, 18 Nov 2025) EndedAt: 2025-11-18 15:39:28 -0500 (Tue, 18 Nov 2025) EllapsedTime: 21.7 seconds RetCode: 0 Status: OK