Package: InteractionSet Version: 1.39.0 Command: /Library/Frameworks/R.framework/Resources/bin/R CMD build --keep-empty-dirs --no-resave-data InteractionSet StartedAt: 2025-11-18 16:54:26 -0500 (Tue, 18 Nov 2025) EndedAt: 2025-11-18 16:54:49 -0500 (Tue, 18 Nov 2025) EllapsedTime: 23.3 seconds RetCode: 0 Status: OK PackageFile: InteractionSet_1.39.0.tar.gz PackageFileSize: 391.5 KiB