Package: InteractionSet Version: 1.39.0 Command: /Library/Frameworks/R.framework/Resources/bin/R CMD INSTALL InteractionSet StartedAt: 2025-11-18 15:25:03 -0500 (Tue, 18 Nov 2025) EndedAt: 2025-11-18 15:25:18 -0500 (Tue, 18 Nov 2025) EllapsedTime: 15.5 seconds RetCode: 0 Status: OK