Package: InteractiveComplexHeatmap Version: 1.19.0 Command: rm -rf InteractiveComplexHeatmap.buildbin-libdir && mkdir InteractiveComplexHeatmap.buildbin-libdir && /Users/biocbuild/BBS/utils/build-universal.sh InteractiveComplexHeatmap_1.19.0.tar.gz /Library/Frameworks/R.framework/Resources/bin/R InteractiveComplexHeatmap.buildbin-libdir StartedAt: 2025-11-18 23:45:05 -0500 (Tue, 18 Nov 2025) EndedAt: 2025-11-18 23:45:12 -0500 (Tue, 18 Nov 2025) EllapsedTime: 7.1 seconds RetCode: 0 Status: OK PackageFile: InteractiveComplexHeatmap_1.19.0.tgz PackageFileSize: 1.154 MiB