Package: InteractiveComplexHeatmap Version: 1.19.0 Command: /Library/Frameworks/R.framework/Resources/bin/R CMD build --keep-empty-dirs --no-resave-data InteractiveComplexHeatmap StartedAt: 2025-11-18 16:54:40 -0500 (Tue, 18 Nov 2025) EndedAt: 2025-11-18 16:54:57 -0500 (Tue, 18 Nov 2025) EllapsedTime: 17.2 seconds RetCode: 0 Status: OK PackageFile: InteractiveComplexHeatmap_1.19.0.tar.gz PackageFileSize: 968.7 KiB