Package: InteractiveComplexHeatmap Version: 1.19.0 Command: /Library/Frameworks/R.framework/Resources/bin/R CMD build --keep-empty-dirs --no-resave-data InteractiveComplexHeatmap StartedAt: 2025-11-19 17:27:25 -0500 (Wed, 19 Nov 2025) EndedAt: 2025-11-19 17:28:25 -0500 (Wed, 19 Nov 2025) EllapsedTime: 59.3 seconds RetCode: 0 Status: OK PackageFile: InteractiveComplexHeatmap_1.19.0.tar.gz PackageFileSize: 968.6 KiB