Package: InteractiveComplexHeatmap Version: 1.19.0 Command: /Library/Frameworks/R.framework/Resources/bin/R CMD INSTALL InteractiveComplexHeatmap StartedAt: 2025-11-19 15:22:48 -0500 (Wed, 19 Nov 2025) EndedAt: 2025-11-19 15:23:07 -0500 (Wed, 19 Nov 2025) EllapsedTime: 18.3 seconds RetCode: 0 Status: OK