Package: InteractiveComplexHeatmap Version: 1.19.0 Command: /home/biocbuild/bbs-3.23-bioc/R/bin/R CMD build --keep-empty-dirs --no-resave-data InteractiveComplexHeatmap StartedAt: 2025-11-18 19:05:23 -0500 (Tue, 18 Nov 2025) EndedAt: 2025-11-18 19:05:59 -0500 (Tue, 18 Nov 2025) EllapsedTime: 36.0 seconds RetCode: 0 Status: OK PackageFile: InteractiveComplexHeatmap_1.19.0.tar.gz PackageFileSize: 949.5 KiB