Package: IsoCorrectoRGUI Version: 1.27.0 Command: rm -rf IsoCorrectoRGUI.buildbin-libdir && mkdir IsoCorrectoRGUI.buildbin-libdir && /Users/biocbuild/BBS/utils/build-universal.sh IsoCorrectoRGUI_1.27.0.tar.gz /Library/Frameworks/R.framework/Resources/bin/R IsoCorrectoRGUI.buildbin-libdir StartedAt: 2025-11-18 23:45:38 -0500 (Tue, 18 Nov 2025) EndedAt: 2025-11-18 23:45:42 -0500 (Tue, 18 Nov 2025) EllapsedTime: 4.1 seconds RetCode: 0 Status: OK PackageFile: IsoCorrectoRGUI_1.27.0.tgz PackageFileSize: 456 KiB