Package: IsoCorrectoRGUI Version: 1.27.0 Command: /Library/Frameworks/R.framework/Resources/bin/R CMD INSTALL IsoCorrectoRGUI StartedAt: 2025-11-18 15:15:46 -0500 (Tue, 18 Nov 2025) EndedAt: 2025-11-18 15:15:53 -0500 (Tue, 18 Nov 2025) EllapsedTime: 7.3 seconds RetCode: 0 Status: OK