Package: IsoCorrectoRGUI Version: 1.27.0 Command: /Library/Frameworks/R.framework/Resources/bin/R CMD build --keep-empty-dirs --no-resave-data IsoCorrectoRGUI StartedAt: 2025-11-19 17:29:32 -0500 (Wed, 19 Nov 2025) EndedAt: 2025-11-19 17:29:48 -0500 (Wed, 19 Nov 2025) EllapsedTime: 16.1 seconds RetCode: 0 Status: OK PackageFile: IsoCorrectoRGUI_1.27.0.tar.gz PackageFileSize: 438.9 KiB