Package: IsoCorrectoRGUI Version: 1.27.0 Command: /Library/Frameworks/R.framework/Resources/bin/R CMD INSTALL IsoCorrectoRGUI StartedAt: 2025-11-19 15:17:12 -0500 (Wed, 19 Nov 2025) EndedAt: 2025-11-19 15:17:40 -0500 (Wed, 19 Nov 2025) EllapsedTime: 27.8 seconds RetCode: 0 Status: OK