Package: IsoCorrectoRGUI Version: 1.27.0 Command: /home/biocbuild/bbs-3.23-bioc/R/bin/R CMD build --keep-empty-dirs --no-resave-data IsoCorrectoRGUI StartedAt: 2025-11-18 19:08:39 -0500 (Tue, 18 Nov 2025) EndedAt: 2025-11-18 19:08:47 -0500 (Tue, 18 Nov 2025) EllapsedTime: 8.0 seconds RetCode: 0 Status: OK PackageFile: IsoCorrectoRGUI_1.27.0.tar.gz PackageFileSize: 439.1 KiB