Package: IsoCorrectoRGUI Version: 1.27.0 Command: /home/biocbuild/bbs-3.23-bioc/R/bin/R CMD INSTALL IsoCorrectoRGUI StartedAt: 2025-11-19 15:12:12 -0500 (Wed, 19 Nov 2025) EndedAt: 2025-11-19 15:12:17 -0500 (Wed, 19 Nov 2025) EllapsedTime: 4.5 seconds RetCode: 0 Status: OK