Package: KnowSeq Version: 1.25.0 Command: /Library/Frameworks/R.framework/Resources/bin/R CMD build --keep-empty-dirs --no-resave-data KnowSeq StartedAt: 2025-11-24 16:52:06 -0500 (Mon, 24 Nov 2025) EndedAt: 2025-11-24 16:53:32 -0500 (Mon, 24 Nov 2025) EllapsedTime: 85.9 seconds RetCode: 0 Status: OK PackageFile: KnowSeq_1.25.0.tar.gz PackageFileSize: 8.259 MiB