Package: KnowSeq Version: 1.25.0 Command: /Library/Frameworks/R.framework/Resources/bin/R CMD INSTALL KnowSeq StartedAt: 2025-11-24 15:09:43 -0500 (Mon, 24 Nov 2025) EndedAt: 2025-11-24 15:09:55 -0500 (Mon, 24 Nov 2025) EllapsedTime: 11.3 seconds RetCode: 0 Status: OK