Package: MMDiff2 Version: 1.39.0 Command: rm -rf MMDiff2.buildbin-libdir && mkdir MMDiff2.buildbin-libdir && /Users/biocbuild/BBS/utils/build-universal.sh MMDiff2_1.39.0.tar.gz /Library/Frameworks/R.framework/Resources/bin/R MMDiff2.buildbin-libdir StartedAt: 2025-11-18 23:49:10 -0500 (Tue, 18 Nov 2025) EndedAt: 2025-11-18 23:49:30 -0500 (Tue, 18 Nov 2025) EllapsedTime: 19.4 seconds RetCode: 0 Status: OK PackageFile: MMDiff2_1.39.0.tgz PackageFileSize: 3.055 MiB