Package: MMDiff2 Version: 1.39.0 Command: /Library/Frameworks/R.framework/Resources/bin/R CMD build --keep-empty-dirs --no-resave-data MMDiff2 StartedAt: 2025-11-18 17:11:04 -0500 (Tue, 18 Nov 2025) EndedAt: 2025-11-18 17:11:52 -0500 (Tue, 18 Nov 2025) EllapsedTime: 47.5 seconds RetCode: 0 Status: OK PackageFile: MMDiff2_1.39.0.tar.gz PackageFileSize: 2.848 MiB