Package: MMDiff2 Version: 1.39.0 Command: /Library/Frameworks/R.framework/Resources/bin/R CMD build --keep-empty-dirs --no-resave-data MMDiff2 StartedAt: 2025-11-21 17:45:49 -0500 (Fri, 21 Nov 2025) EndedAt: 2025-11-21 17:48:02 -0500 (Fri, 21 Nov 2025) EllapsedTime: 133.5 seconds RetCode: 0 Status: OK PackageFile: MMDiff2_1.39.0.tar.gz PackageFileSize: 2.847 MiB