Package: MMDiff2 Version: 1.39.0 Command: /Library/Frameworks/R.framework/Resources/bin/R CMD INSTALL MMDiff2 StartedAt: 2025-11-21 15:35:02 -0500 (Fri, 21 Nov 2025) EndedAt: 2025-11-21 15:35:52 -0500 (Fri, 21 Nov 2025) EllapsedTime: 50.5 seconds RetCode: 0 Status: OK