Package: MOSClip Version: 1.5.0 Command: /Library/Frameworks/R.framework/Resources/bin/R CMD INSTALL MOSClip StartedAt: 2025-11-21 15:23:05 -0500 (Fri, 21 Nov 2025) EndedAt: 2025-11-21 15:23:25 -0500 (Fri, 21 Nov 2025) EllapsedTime: 19.8 seconds RetCode: 0 Status: OK