| Back to Multiple platform build/check report for BioC 3.23: simplified long |
|
This page was generated on 2025-11-19 10:11 -0500 (Wed, 19 Nov 2025).
| Hostname | OS | Arch (*) | R version | Installed pkgs |
|---|---|---|---|---|
| nebbiolo1 | Linux (Ubuntu 24.04.3 LTS) | x86_64 | R Under development (unstable) (2025-10-20 r88955) -- "Unsuffered Consequences" | 4827 |
| lconway | macOS 12.7.6 Monterey | x86_64 | R Under development (unstable) (2025-10-21 r88958) -- "Unsuffered Consequences" | 4600 |
| kjohnson3 | macOS 13.7.7 Ventura | arm64 | R Under development (unstable) (2025-11-04 r88984) -- "Unsuffered Consequences" | 4564 |
| Click on any hostname to see more info about the system (e.g. compilers) (*) as reported by 'uname -p', except on Windows and Mac OS X | ||||
|
To the developers/maintainers of the MSnbase package: - Allow up to 24 hours (and sometimes 48 hours) for your latest push to git@git.bioconductor.org:packages/MSnbase.git to reflect on this report. See Troubleshooting Build Report for more information. - Use the following Renviron settings to reproduce errors and warnings. - If 'R CMD check' started to fail recently on the Linux builder(s) over a missing dependency, add the missing dependency to 'Suggests:' in your DESCRIPTION file. See Renviron.bioc for more information. |
| Package 1370/2325 | Hostname | OS / Arch | INSTALL | BUILD | CHECK | BUILD BIN | ||||||||
| MSnbase 2.37.0 (landing page) Laurent Gatto
| nebbiolo1 | Linux (Ubuntu 24.04.3 LTS) / x86_64 | OK | OK | OK | |||||||||
| lconway | macOS 12.7.6 Monterey / x86_64 | OK | OK | OK | OK | |||||||||
| kjohnson3 | macOS 13.7.7 Ventura / arm64 | OK | OK | OK | OK | |||||||||
| QUICK STATS | OS / Arch | INSTALL | BUILD | CHECK | BUILD BIN | |||||||||||||||||
| nebbiolo1 | Linux (Ubuntu 24.04.3 LTS) / x86_64 |
|
|
| ||||||||||||||||||
| lconway | macOS 12.7.6 Monterey / x86_64 |
|
|
|
| |||||||||||||||||
| kjohnson3 | macOS 13.7.7 Ventura / arm64 |
|
|
|
| |||||||||||||||||
| Package 1/20 | Hostname | OS / Arch | INSTALL | BUILD | CHECK | BUILD BIN | ||||||||||||||||
| bandle 1.15.0 (landing page) Oliver M. Crook
| nebbiolo1 | Linux (Ubuntu 24.04.3 LTS) / x86_64 | OK | OK | WARNINGS | |||||||||||||||||
| lconway | macOS 12.7.6 Monterey / x86_64 | OK | OK | WARNINGS | OK | |||||||||||||||||
| kjohnson3 | macOS 13.7.7 Ventura / arm64 | OK | OK | WARNINGS | OK | |||||||||||||||||
| Package 2/20 | Hostname | OS / Arch | INSTALL | BUILD | CHECK | BUILD BIN | ||||||||||||||||
| cliqueMS 1.25.0 (landing page) Oriol Senan Campos
| nebbiolo1 | Linux (Ubuntu 24.04.3 LTS) / x86_64 | OK | OK | OK | |||||||||||||||||
| lconway | macOS 12.7.6 Monterey / x86_64 | OK | OK | WARNINGS | OK | |||||||||||||||||
| kjohnson3 | macOS 13.7.7 Ventura / arm64 | OK | OK | WARNINGS | OK | |||||||||||||||||
| Package 3/20 | Hostname | OS / Arch | INSTALL | BUILD | CHECK | BUILD BIN | ||||||||||||||||
| CluMSID 1.27.0 (landing page) Tobias Depke
| nebbiolo1 | Linux (Ubuntu 24.04.3 LTS) / x86_64 | OK | OK | WARNINGS | |||||||||||||||||
| lconway | macOS 12.7.6 Monterey / x86_64 | OK | ERROR | skipped | skipped | |||||||||||||||||
| kjohnson3 | macOS 13.7.7 Ventura / arm64 | OK | ERROR | skipped | skipped | |||||||||||||||||
| Package 4/20 | Hostname | OS / Arch | INSTALL | BUILD | CHECK | BUILD BIN | ||||||||||||||||
| DAPAR 1.43.0 (landing page) Samuel Wieczorek
| nebbiolo1 | Linux (Ubuntu 24.04.3 LTS) / x86_64 | OK | OK | OK | |||||||||||||||||
| lconway | macOS 12.7.6 Monterey / x86_64 | OK | OK | ERROR | OK | |||||||||||||||||
| kjohnson3 | macOS 13.7.7 Ventura / arm64 | OK | OK | OK | OK | |||||||||||||||||
| Package 5/20 | Hostname | OS / Arch | INSTALL | BUILD | CHECK | BUILD BIN | ||||||||||||||||
| msmsEDA 1.49.0 (landing page) Josep Gregori
| nebbiolo1 | Linux (Ubuntu 24.04.3 LTS) / x86_64 | OK | OK | OK | |||||||||||||||||
| lconway | macOS 12.7.6 Monterey / x86_64 | OK | OK | OK | OK | |||||||||||||||||
| kjohnson3 | macOS 13.7.7 Ventura / arm64 | OK | OK | OK | OK | |||||||||||||||||
| Package 6/20 | Hostname | OS / Arch | INSTALL | BUILD | CHECK | BUILD BIN | ||||||||||||||||
| msmsTests 1.49.0 (landing page) Josep Gregori i Font
| nebbiolo1 | Linux (Ubuntu 24.04.3 LTS) / x86_64 | OK | OK | OK | |||||||||||||||||
| lconway | macOS 12.7.6 Monterey / x86_64 | OK | OK | OK | OK | |||||||||||||||||
| kjohnson3 | macOS 13.7.7 Ventura / arm64 | OK | OK | OK | OK | |||||||||||||||||
| Package 7/20 | Hostname | OS / Arch | INSTALL | BUILD | CHECK | BUILD BIN | ||||||||||||||||
| MSnID 1.45.0 (landing page) Vlad Petyuk
| nebbiolo1 | Linux (Ubuntu 24.04.3 LTS) / x86_64 | OK | OK | OK | |||||||||||||||||
| lconway | macOS 12.7.6 Monterey / x86_64 | OK | OK | OK | OK | |||||||||||||||||
| kjohnson3 | macOS 13.7.7 Ventura / arm64 | OK | OK | ERROR | OK | |||||||||||||||||
| Package 8/20 | Hostname | OS / Arch | INSTALL | BUILD | CHECK | BUILD BIN | ||||||||||||||||
| MSstatsQC 2.29.0 (landing page) Eralp Dogu
| nebbiolo1 | Linux (Ubuntu 24.04.3 LTS) / x86_64 | OK | OK | OK | |||||||||||||||||
| lconway | macOS 12.7.6 Monterey / x86_64 | OK | OK | OK | OK | |||||||||||||||||
| kjohnson3 | macOS 13.7.7 Ventura / arm64 | OK | OK | OK | OK | |||||||||||||||||
| Package 9/20 | Hostname | OS / Arch | INSTALL | BUILD | CHECK | BUILD BIN | ||||||||||||||||
| omXplore 1.5.0 (landing page) Samuel Wieczorek
| nebbiolo1 | Linux (Ubuntu 24.04.3 LTS) / x86_64 | OK | OK | ERROR | |||||||||||||||||
| lconway | macOS 12.7.6 Monterey / x86_64 | OK | OK | ERROR | OK | |||||||||||||||||
| kjohnson3 | macOS 13.7.7 Ventura / arm64 | OK | OK | ERROR | OK | |||||||||||||||||
| Package 10/20 | Hostname | OS / Arch | INSTALL | BUILD | CHECK | BUILD BIN | ||||||||||||||||
| peakPantheR 1.25.0 (landing page) Arnaud Wolfer
| nebbiolo1 | Linux (Ubuntu 24.04.3 LTS) / x86_64 | OK | OK | OK | |||||||||||||||||
| lconway | macOS 12.7.6 Monterey / x86_64 | OK | OK | OK | OK | |||||||||||||||||
| kjohnson3 | macOS 13.7.7 Ventura / arm64 | OK | OK | OK | OK | |||||||||||||||||
| Package 11/20 | Hostname | OS / Arch | INSTALL | BUILD | CHECK | BUILD BIN | ||||||||||||||||
| PrInCE 1.27.0 (landing page) Michael Skinnider
| nebbiolo1 | Linux (Ubuntu 24.04.3 LTS) / x86_64 | OK | OK | WARNINGS | |||||||||||||||||
| lconway | macOS 12.7.6 Monterey / x86_64 | OK | OK | WARNINGS | OK | |||||||||||||||||
| kjohnson3 | macOS 13.7.7 Ventura / arm64 | OK | OK | WARNINGS | OK | |||||||||||||||||
| Package 12/20 | Hostname | OS / Arch | INSTALL | BUILD | CHECK | BUILD BIN | ||||||||||||||||
| pRoloc 1.51.0 (landing page) Lisa Breckels
| nebbiolo1 | Linux (Ubuntu 24.04.3 LTS) / x86_64 | OK | OK | WARNINGS | |||||||||||||||||
| lconway | macOS 12.7.6 Monterey / x86_64 | OK | OK | WARNINGS | OK | |||||||||||||||||
| kjohnson3 | macOS 13.7.7 Ventura / arm64 | OK | OK | WARNINGS | OK | |||||||||||||||||
| Package 13/20 | Hostname | OS / Arch | INSTALL | BUILD | CHECK | BUILD BIN | ||||||||||||||||
| pRolocGUI 2.21.0 (landing page) Lisa Breckels
| nebbiolo1 | Linux (Ubuntu 24.04.3 LTS) / x86_64 | OK | OK | OK | |||||||||||||||||
| lconway | macOS 12.7.6 Monterey / x86_64 | OK | OK | OK | OK | |||||||||||||||||
| kjohnson3 | macOS 13.7.7 Ventura / arm64 | OK | OK | OK | OK | |||||||||||||||||
| Package 14/20 | Hostname | OS / Arch | INSTALL | BUILD | CHECK | BUILD BIN | ||||||||||||||||
| PRONE 1.5.0 (landing page) Lis Arend
| nebbiolo1 | Linux (Ubuntu 24.04.3 LTS) / x86_64 | OK | OK | OK | |||||||||||||||||
| lconway | macOS 12.7.6 Monterey / x86_64 | OK | OK | OK | OK | |||||||||||||||||
| kjohnson3 | macOS 13.7.7 Ventura / arm64 | OK | OK | OK | OK | |||||||||||||||||
| Package 15/20 | Hostname | OS / Arch | INSTALL | BUILD | CHECK | BUILD BIN | ||||||||||||||||
| ptairMS 1.19.0 (landing page) camille Roquencourt
| nebbiolo1 | Linux (Ubuntu 24.04.3 LTS) / x86_64 | OK | OK | WARNINGS | |||||||||||||||||
| lconway | macOS 12.7.6 Monterey / x86_64 | OK | OK | WARNINGS | OK | |||||||||||||||||
| kjohnson3 | macOS 13.7.7 Ventura / arm64 | OK | OK | WARNINGS | OK | |||||||||||||||||
| Package 16/20 | Hostname | OS / Arch | INSTALL | BUILD | CHECK | BUILD BIN | ||||||||||||||||
| qPLEXanalyzer 1.29.0 (landing page) Ashley Sawle
| nebbiolo1 | Linux (Ubuntu 24.04.3 LTS) / x86_64 | OK | ERROR | skipped | |||||||||||||||||
| lconway | macOS 12.7.6 Monterey / x86_64 | OK | ERROR | skipped | skipped | |||||||||||||||||
| kjohnson3 | macOS 13.7.7 Ventura / arm64 | OK | ERROR | skipped | skipped | |||||||||||||||||
| Package 17/20 | Hostname | OS / Arch | INSTALL | BUILD | CHECK | BUILD BIN | ||||||||||||||||
| RMassBank 3.21.0 (landing page) RMassBank at Eawag
| nebbiolo1 | Linux (Ubuntu 24.04.3 LTS) / x86_64 | OK | OK | OK | |||||||||||||||||
| lconway | macOS 12.7.6 Monterey / x86_64 | OK | OK | OK | OK | |||||||||||||||||
| kjohnson3 | macOS 13.7.7 Ventura / arm64 | OK | OK | OK | OK | |||||||||||||||||
| Package 18/20 | Hostname | OS / Arch | INSTALL | BUILD | CHECK | BUILD BIN | ||||||||||||||||
| squallms 1.5.0 (landing page) William Kumler
| nebbiolo1 | Linux (Ubuntu 24.04.3 LTS) / x86_64 | OK | OK | OK | |||||||||||||||||
| lconway | macOS 12.7.6 Monterey / x86_64 | OK | OK | OK | OK | |||||||||||||||||
| kjohnson3 | macOS 13.7.7 Ventura / arm64 | OK | OK | OK | OK | |||||||||||||||||
| Package 19/20 | Hostname | OS / Arch | INSTALL | BUILD | CHECK | BUILD BIN | ||||||||||||||||
| topdownr 1.33.0 (landing page) Sebastian Gibb
| nebbiolo1 | Linux (Ubuntu 24.04.3 LTS) / x86_64 | OK | OK | OK | |||||||||||||||||
| lconway | macOS 12.7.6 Monterey / x86_64 | OK | OK | OK | OK | |||||||||||||||||
| kjohnson3 | macOS 13.7.7 Ventura / arm64 | OK | OK | OK | OK | |||||||||||||||||
| Package 20/20 | Hostname | OS / Arch | INSTALL | BUILD | CHECK | BUILD BIN | ||||||||||||||||
| xcms 4.9.0 (landing page) Steffen Neumann
| nebbiolo1 | Linux (Ubuntu 24.04.3 LTS) / x86_64 | OK | OK | OK | |||||||||||||||||
| lconway | macOS 12.7.6 Monterey / x86_64 | OK | OK | OK | OK | |||||||||||||||||
| kjohnson3 | macOS 13.7.7 Ventura / arm64 | OK | OK | OK | OK | |||||||||||||||||