Package: MSstatsBioNet Version: 1.3.1 Command: /Library/Frameworks/R.framework/Resources/bin/R CMD build --keep-empty-dirs --no-resave-data MSstatsBioNet StartedAt: 2025-11-18 17:16:22 -0500 (Tue, 18 Nov 2025) EndedAt: 2025-11-18 17:16:34 -0500 (Tue, 18 Nov 2025) EllapsedTime: 12.2 seconds RetCode: 0 Status: OK PackageFile: MSstatsBioNet_1.3.1.tar.gz PackageFileSize: 510.5 KiB