Package: MSstatsBioNet Version: 1.3.1 Command: /Library/Frameworks/R.framework/Resources/bin/R CMD INSTALL MSstatsBioNet StartedAt: 2025-11-18 15:41:23 -0500 (Tue, 18 Nov 2025) EndedAt: 2025-11-18 15:41:30 -0500 (Tue, 18 Nov 2025) EllapsedTime: 6.2 seconds RetCode: 0 Status: OK