Package: MSstatsBioNet Version: 1.3.1 Command: /Library/Frameworks/R.framework/Resources/bin/R CMD INSTALL MSstatsBioNet StartedAt: 2025-11-25 15:33:12 -0500 (Tue, 25 Nov 2025) EndedAt: 2025-11-25 15:33:37 -0500 (Tue, 25 Nov 2025) EllapsedTime: 24.8 seconds RetCode: 0 Status: OK