Package: MVCClass Version: 1.85.0 Command: /Library/Frameworks/R.framework/Resources/bin/R CMD build --keep-empty-dirs --no-resave-data MVCClass StartedAt: 2025-11-19 17:58:22 -0500 (Wed, 19 Nov 2025) EndedAt: 2025-11-19 17:58:34 -0500 (Wed, 19 Nov 2025) EllapsedTime: 11.5 seconds RetCode: 0 Status: OK PackageFile: MVCClass_1.85.0.tar.gz PackageFileSize: 1.029 MiB