Package: MVCClass Version: 1.85.0 Command: /Library/Frameworks/R.framework/Resources/bin/R CMD INSTALL MVCClass StartedAt: 2025-11-18 15:12:07 -0500 (Tue, 18 Nov 2025) EndedAt: 2025-11-18 15:12:55 -0500 (Tue, 18 Nov 2025) EllapsedTime: 47.6 seconds RetCode: 0 Status: OK