Package: MVCClass Version: 1.85.0 Command: /home/biocbuild/bbs-3.23-bioc/R/bin/R CMD build --keep-empty-dirs --no-resave-data MVCClass StartedAt: 2025-11-18 19:48:27 -0500 (Tue, 18 Nov 2025) EndedAt: 2025-11-18 19:48:33 -0500 (Tue, 18 Nov 2025) EllapsedTime: 6.0 seconds RetCode: 0 Status: OK PackageFile: MVCClass_1.85.0.tar.gz PackageFileSize: 1.031 MiB