Package: MVCClass Version: 1.85.0 Command: /home/biocbuild/bbs-3.23-bioc/R/bin/R CMD INSTALL MVCClass StartedAt: 2025-11-18 15:58:14 -0500 (Tue, 18 Nov 2025) EndedAt: 2025-11-18 15:58:31 -0500 (Tue, 18 Nov 2025) EllapsedTime: 17.3 seconds RetCode: 0 Status: OK