Package: MatrixGenerics Version: 1.23.0 Command: /Library/Frameworks/R.framework/Resources/bin/R CMD build --keep-empty-dirs --no-resave-data MatrixGenerics StartedAt: 2025-11-18 17:01:30 -0500 (Tue, 18 Nov 2025) EndedAt: 2025-11-18 17:01:31 -0500 (Tue, 18 Nov 2025) EllapsedTime: 1.0 seconds RetCode: 0 Status: OK PackageFile: MatrixGenerics_1.23.0.tar.gz PackageFileSize: 31.23 KiB