Package: MatrixGenerics Version: 1.23.0 Command: /Library/Frameworks/R.framework/Resources/bin/R CMD INSTALL MatrixGenerics StartedAt: 2025-11-18 15:13:06 -0500 (Tue, 18 Nov 2025) EndedAt: 2025-11-18 15:13:11 -0500 (Tue, 18 Nov 2025) EllapsedTime: 5.4 seconds RetCode: 0 Status: OK