Package: MetaboAnnotation Version: 1.15.0 Command: /Library/Frameworks/R.framework/Resources/bin/R CMD build --keep-empty-dirs --no-resave-data MetaboAnnotation StartedAt: 2025-11-18 17:03:09 -0500 (Tue, 18 Nov 2025) EndedAt: 2025-11-18 17:03:51 -0500 (Tue, 18 Nov 2025) EllapsedTime: 42.5 seconds RetCode: 0 Status: OK PackageFile: MetaboAnnotation_1.15.0.tar.gz PackageFileSize: 1.252 MiB