Package: MetaboAnnotation Version: 1.15.0 Command: /Library/Frameworks/R.framework/Resources/bin/R CMD INSTALL MetaboAnnotation StartedAt: 2025-11-18 15:30:17 -0500 (Tue, 18 Nov 2025) EndedAt: 2025-11-18 15:30:34 -0500 (Tue, 18 Nov 2025) EllapsedTime: 16.6 seconds RetCode: 0 Status: OK