Package: MetaboCoreUtils Version: 1.19.1 Maintainer: Johannes Rainer MaintainerEmail: Johannes.Rainer at eurac.edu git_url: https://git.bioconductor.org/packages/MetaboCoreUtils git_branch: devel git_last_commit: 6ca986f git_last_commit_date: 2025-11-18 04:28:10 -0500 (Tue, 18 Nov 2025)