Package: MetaboCoreUtils Version: 1.19.1 Command: rm -rf MetaboCoreUtils.buildbin-libdir && mkdir MetaboCoreUtils.buildbin-libdir && /Users/biocbuild/BBS/utils/build-universal.sh MetaboCoreUtils_1.19.1.tar.gz /Library/Frameworks/R.framework/Resources/bin/R MetaboCoreUtils.buildbin-libdir StartedAt: 2025-11-19 23:40:48 -0500 (Wed, 19 Nov 2025) EndedAt: 2025-11-19 23:40:52 -0500 (Wed, 19 Nov 2025) EllapsedTime: 4.1 seconds RetCode: 0 Status: OK PackageFile: MetaboCoreUtils_1.19.1.tgz PackageFileSize: 1.09 MiB