Package: MetaboCoreUtils Version: 1.19.1 Command: /Library/Frameworks/R.framework/Resources/bin/R CMD build --keep-empty-dirs --no-resave-data MetaboCoreUtils StartedAt: 2025-11-19 16:53:29 -0500 (Wed, 19 Nov 2025) EndedAt: 2025-11-19 16:53:36 -0500 (Wed, 19 Nov 2025) EllapsedTime: 7.1 seconds RetCode: 0 Status: OK PackageFile: MetaboCoreUtils_1.19.1.tar.gz PackageFileSize: 1.011 MiB