Package: MetaboCoreUtils Version: 1.19.1 Command: /Library/Frameworks/R.framework/Resources/bin/R CMD INSTALL MetaboCoreUtils StartedAt: 2025-11-19 15:09:17 -0500 (Wed, 19 Nov 2025) EndedAt: 2025-11-19 15:09:21 -0500 (Wed, 19 Nov 2025) EllapsedTime: 4.1 seconds RetCode: 0 Status: OK